BEGIN:VCALENDAR
VERSION:2.0
PRODID:-//Path To Transformation - ECPv6.15.20//NONSGML v1.0//EN
CALSCALE:GREGORIAN
METHOD:PUBLISH
X-WR-CALNAME:Path To Transformation
X-ORIGINAL-URL:https://pathtotransformation.info
X-WR-CALDESC:Events for Path To Transformation
REFRESH-INTERVAL;VALUE=DURATION:PT1H
X-Robots-Tag:noindex
X-PUBLISHED-TTL:PT1H
BEGIN:VTIMEZONE
TZID:America/Chicago
BEGIN:DAYLIGHT
TZOFFSETFROM:-0600
TZOFFSETTO:-0500
TZNAME:CDT
DTSTART:20250309T080000
END:DAYLIGHT
BEGIN:STANDARD
TZOFFSETFROM:-0500
TZOFFSETTO:-0600
TZNAME:CST
DTSTART:20251102T070000
END:STANDARD
BEGIN:DAYLIGHT
TZOFFSETFROM:-0600
TZOFFSETTO:-0500
TZNAME:CDT
DTSTART:20260308T080000
END:DAYLIGHT
BEGIN:STANDARD
TZOFFSETFROM:-0500
TZOFFSETTO:-0600
TZNAME:CST
DTSTART:20261101T070000
END:STANDARD
BEGIN:DAYLIGHT
TZOFFSETFROM:-0600
TZOFFSETTO:-0500
TZNAME:CDT
DTSTART:20270314T080000
END:DAYLIGHT
BEGIN:STANDARD
TZOFFSETFROM:-0500
TZOFFSETTO:-0600
TZNAME:CST
DTSTART:20271107T070000
END:STANDARD
END:VTIMEZONE
BEGIN:VEVENT
DTSTART;TZID=America/Chicago:20260417T183000
DTEND;TZID=America/Chicago:20260422T210000
DTSTAMP:20260422T124356
CREATED:20220930T213059Z
LAST-MODIFIED:20260418T175316Z
UID:11988-1776450600-1776891600@pathtotransformation.info
SUMMARY:Reiki 4 Master/Teacher Certification (3 ZOOM sessions)
DESCRIPTION:Session 1 – Apr 17 – 6:30 to 9:00 pm CST\nSession 2 – Apr 20 – 6:45 to 9:15 pm\nSession 3 – Apr 22 – 7:00 to 9:00 pm \nIn this three-session interactive Zoom class\, you will learn (1) how to do attunements/initiations for Reiki 1\, 2 and 3 via demonstrations and actual practice and (2) the step-by-step process of what to teach at each level of Usui Reiki.  In addition\, you will see what it takes to be a successful Reiki Teacher and how to teach Reiki. \nClass Prerequisites: Reiki 1\, 2 and 3 at least 21 days prior.  Check with Eva Gairabetoff if these classes were taken with a different instructor. \nAfter the $333.00 payment for the class\, you will receive the Zoom links via email or text.   \n\n \n 
URL:https://pathtotransformation.info/event/reiki-4-master-teacher-course-zoom/
ATTACH;FMTTYPE=image/jpeg:https://pathtotransformation.info/wp-content/uploads/2020/01/Gallery1.jpg
END:VEVENT
END:VCALENDAR