BEGIN:VCALENDAR
VERSION:2.0
PRODID:-//Path To Transformation - ECPv6.15.20//NONSGML v1.0//EN
CALSCALE:GREGORIAN
METHOD:PUBLISH
X-ORIGINAL-URL:https://pathtotransformation.info
X-WR-CALDESC:Events for Path To Transformation
REFRESH-INTERVAL;VALUE=DURATION:PT1H
X-Robots-Tag:noindex
X-PUBLISHED-TTL:PT1H
BEGIN:VTIMEZONE
TZID:America/Chicago
BEGIN:DAYLIGHT
TZOFFSETFROM:-0600
TZOFFSETTO:-0500
TZNAME:CDT
DTSTART:20250309T080000
END:DAYLIGHT
BEGIN:STANDARD
TZOFFSETFROM:-0500
TZOFFSETTO:-0600
TZNAME:CST
DTSTART:20251102T070000
END:STANDARD
BEGIN:DAYLIGHT
TZOFFSETFROM:-0600
TZOFFSETTO:-0500
TZNAME:CDT
DTSTART:20260308T080000
END:DAYLIGHT
BEGIN:STANDARD
TZOFFSETFROM:-0500
TZOFFSETTO:-0600
TZNAME:CST
DTSTART:20261101T070000
END:STANDARD
BEGIN:DAYLIGHT
TZOFFSETFROM:-0600
TZOFFSETTO:-0500
TZNAME:CDT
DTSTART:20270314T080000
END:DAYLIGHT
BEGIN:STANDARD
TZOFFSETFROM:-0500
TZOFFSETTO:-0600
TZNAME:CST
DTSTART:20271107T070000
END:STANDARD
END:VTIMEZONE
BEGIN:VEVENT
DTSTART;TZID=America/Chicago:20260712T100000
DTEND;TZID=America/Chicago:20260712T173000
DTSTAMP:20260422T161651
CREATED:20181020T235552Z
LAST-MODIFIED:20260418T181728Z
UID:755-1783850400-1783877400@pathtotransformation.info
SUMMARY:Reiki 2 Practitioner Course (in-person)
DESCRIPTION:Course Overview:\nWill enable you to reach outside of your family with Reiki! Through further attunement/initiation and education\, this one-day class raises your ability to direct healing energy both in person and at a distance. You learn powerful symbols to effect healing at a distance as well as several techniques for doing so. \nBook\, manual\, energy tools (gifts) and snacks are included. \nWe will experience and learn about: \n\nMore Advanced Self-Care for the Reiki Practitioner\nTraditional Usui and non-traditional Karuna healing symbols.\nVisualization exercise to prepare for the Reiki 2 initiation/attunement process\nInterpret the Reiki 2 Initiation\nDistance healing\, its effectiveness and permission\nFive distance healing methods\nReiki and legal issues\nPracticing Reiki in doctor’s offices and hospitals\nUsing the symbols with partners\nIntegrating aromatherapy in a Reiki Session\n\nPrerequisites: Reiki 1 Certification at least 21 days prior from a certified instructor. \nReiki 2 – $200
URL:https://pathtotransformation.info/event/reiki-2-practitioner-course/
LOCATION:Center For Natural Therapy\, 130 E. St. Charles Rd.\, Villa Park\, 60181\, United States
ATTACH;FMTTYPE=image/jpeg:https://pathtotransformation.info/wp-content/uploads/2018/10/reiki-treatment.jpg
ORGANIZER;CN="Eva Gairabetoff":MAILTO:egairabetoff@gmail.com
END:VEVENT
END:VCALENDAR